BEGIN:VCALENDAR
VERSION:2.0
PRODID:-//Ontmoetingskerk | Capelle aan den IJssel - ECPv6.10.1.1//NONSGML v1.0//EN
CALSCALE:GREGORIAN
METHOD:PUBLISH
X-WR-CALNAME:Ontmoetingskerk | Capelle aan den IJssel
X-ORIGINAL-URL:https://ontmoetingskerkonline.nl
X-WR-CALDESC:Evenementen voor Ontmoetingskerk | Capelle aan den IJssel
REFRESH-INTERVAL;VALUE=DURATION:PT1H
X-Robots-Tag:noindex
X-PUBLISHED-TTL:PT1H
BEGIN:VTIMEZONE
TZID:Europe/Helsinki
BEGIN:DAYLIGHT
TZOFFSETFROM:+0200
TZOFFSETTO:+0300
TZNAME:EEST
DTSTART:20230326T010000
END:DAYLIGHT
BEGIN:STANDARD
TZOFFSETFROM:+0300
TZOFFSETTO:+0200
TZNAME:EET
DTSTART:20231029T010000
END:STANDARD
END:VTIMEZONE
BEGIN:VEVENT
DTSTART;TZID=Europe/Helsinki:20230723T100000
DTEND;TZID=Europe/Helsinki:20230723T113000
DTSTAMP:20260421T222203
CREATED:20230718T173801Z
LAST-MODIFIED:20230718T173801Z
UID:1881-1690106400-1690111800@ontmoetingskerkonline.nl
SUMMARY:Gezamenlijke kerkdienst. Voorganger: Ds. L.J. Koopman (CGK)
DESCRIPTION:
URL:https://ontmoetingskerkonline.nl/kerkdienst/gezamenlijke-kerkdienst-voorganger-ds-l-j-koopman-cgk-2/
CATEGORIES:Algemeen
END:VEVENT
BEGIN:VEVENT
DTSTART;TZID=Europe/Helsinki:20230723T170000
DTEND;TZID=Europe/Helsinki:20230723T190000
DTSTAMP:20260421T222203
CREATED:20230718T173700Z
LAST-MODIFIED:20230718T173729Z
UID:1879-1690131600-1690138800@ontmoetingskerkonline.nl
SUMMARY:Gezamenlijke kerkdienst. Voorganger: Ds. L.J. Koopman (CGK)
DESCRIPTION:
URL:https://ontmoetingskerkonline.nl/kerkdienst/gezamenlijke-kerkdienst-voorganger-ds-l-j-koopman-cgk/
CATEGORIES:Algemeen
END:VEVENT
END:VCALENDAR