BEGIN:VCALENDAR
VERSION:2.0
PRODID:-//Ontmoetingskerk | Capelle aan den IJssel - ECPv6.10.1.1//NONSGML v1.0//EN
CALSCALE:GREGORIAN
METHOD:PUBLISH
X-ORIGINAL-URL:https://ontmoetingskerkonline.nl
X-WR-CALDESC:Evenementen voor Ontmoetingskerk | Capelle aan den IJssel
REFRESH-INTERVAL;VALUE=DURATION:PT1H
X-Robots-Tag:noindex
X-PUBLISHED-TTL:PT1H
BEGIN:VTIMEZONE
TZID:Europe/Helsinki
BEGIN:DAYLIGHT
TZOFFSETFROM:+0200
TZOFFSETTO:+0300
TZNAME:EEST
DTSTART:20240331T010000
END:DAYLIGHT
BEGIN:STANDARD
TZOFFSETFROM:+0300
TZOFFSETTO:+0200
TZNAME:EET
DTSTART:20241027T010000
END:STANDARD
END:VTIMEZONE
BEGIN:VEVENT
DTSTART;TZID=Europe/Helsinki:20241201T113000
DTEND;TZID=Europe/Helsinki:20241201T113000
DTSTAMP:20260422T115057
CREATED:20241104T200939Z
LAST-MODIFIED:20241222T081325Z
UID:5618-1733052600-1733052600@ontmoetingskerkonline.nl
SUMMARY:Kerkdienst Ds LJ Koopman | Heilig Avondmaal & 1e advent | Let op: Aanvang 11:30
DESCRIPTION:
URL:https://ontmoetingskerkonline.nl/kerkdienst/kerkdienst-ds-lj-koopman-heilig-avondmaal-1e-advent-let-op-aanvang-1130/
CATEGORIES:CGK
END:VEVENT
BEGIN:VEVENT
DTSTART;TZID=Europe/Helsinki:20241201T180000
DTEND;TZID=Europe/Helsinki:20241201T180000
DTSTAMP:20260422T115057
CREATED:20241104T201021Z
LAST-MODIFIED:20241104T201021Z
UID:5620-1733076000-1733076000@ontmoetingskerkonline.nl
SUMMARY:Kerkdienst Ds LJ Koopman | Heilig Avondmaal & 1e advent
DESCRIPTION:
URL:https://ontmoetingskerkonline.nl/kerkdienst/kerkdienst-ds-lj-koopman-heilig-avondmaal-1e-advent/
CATEGORIES:CGK
END:VEVENT
BEGIN:VEVENT
DTSTART;TZID=Europe/Helsinki:20241208T111500
DTEND;TZID=Europe/Helsinki:20241208T111500
DTSTAMP:20260422T115057
CREATED:20241104T201216Z
LAST-MODIFIED:20241104T201216Z
UID:5622-1733656500-1733656500@ontmoetingskerkonline.nl
SUMMARY:Kerkdienst Ds LJ Koopman | 2e Advent
DESCRIPTION:
URL:https://ontmoetingskerkonline.nl/kerkdienst/kerkdienst-ds-lj-koopman-2e-advent/
CATEGORIES:CGK
END:VEVENT
BEGIN:VEVENT
DTSTART;TZID=Europe/Helsinki:20241208T180000
DTEND;TZID=Europe/Helsinki:20241208T180000
DTSTAMP:20260422T115057
CREATED:20241104T201307Z
LAST-MODIFIED:20241104T201307Z
UID:5624-1733680800-1733680800@ontmoetingskerkonline.nl
SUMMARY:Kerkdienst Ds LJ Koopman
DESCRIPTION:
URL:https://ontmoetingskerkonline.nl/kerkdienst/kerkdienst-ds-lj-koopman-11/
CATEGORIES:CGK
END:VEVENT
BEGIN:VEVENT
DTSTART;TZID=Europe/Helsinki:20241215T111500
DTEND;TZID=Europe/Helsinki:20241215T111500
DTSTAMP:20260422T115057
CREATED:20241118T192819Z
LAST-MODIFIED:20241118T193059Z
UID:5639-1734261300-1734261300@ontmoetingskerkonline.nl
SUMMARY:Kerkdienst Ds J.W. van Pelt | 3e Advent
DESCRIPTION:
URL:https://ontmoetingskerkonline.nl/kerkdienst/kerkdienst-ds-j-w-van-pelt-2/
CATEGORIES:CGK
END:VEVENT
BEGIN:VEVENT
DTSTART;TZID=Europe/Helsinki:20241215T180000
DTEND;TZID=Europe/Helsinki:20241215T180000
DTSTAMP:20260422T115057
CREATED:20241118T192853Z
LAST-MODIFIED:20241118T193131Z
UID:5641-1734285600-1734285600@ontmoetingskerkonline.nl
SUMMARY:Kerkdienst Ds H. van der Ham
DESCRIPTION:
URL:https://ontmoetingskerkonline.nl/kerkdienst/kerkdienst-ds-h-van-der-ham/
CATEGORIES:CGK
END:VEVENT
BEGIN:VEVENT
DTSTART;TZID=Europe/Helsinki:20241222T111500
DTEND;TZID=Europe/Helsinki:20241222T123000
DTSTAMP:20260422T115057
CREATED:20241222T081521Z
LAST-MODIFIED:20241222T081815Z
UID:5745-1734866100-1734870600@ontmoetingskerkonline.nl
SUMMARY:Kerkdienst: Ds LJ Koopman
DESCRIPTION:
URL:https://ontmoetingskerkonline.nl/kerkdienst/kerkdienst-ds-lj-koopman-12/
CATEGORIES:CGK
END:VEVENT
BEGIN:VEVENT
DTSTART;TZID=Europe/Helsinki:20241224T200000
DTEND;TZID=Europe/Helsinki:20241224T220000
DTSTAMP:20260422T115057
CREATED:20241029T132203Z
LAST-MODIFIED:20241029T132203Z
UID:5569-1735070400-1735077600@ontmoetingskerkonline.nl
SUMMARY:Kerstnachtdienst Ds L.J. Koopman
DESCRIPTION:
URL:https://ontmoetingskerkonline.nl/kerkdienst/kerstnachtdienst-ds-l-j-koopman/
CATEGORIES:CGK
END:VEVENT
BEGIN:VEVENT
DTSTART;TZID=Europe/Helsinki:20241225T111500
DTEND;TZID=Europe/Helsinki:20241225T123000
DTSTAMP:20260422T115057
CREATED:20241222T081923Z
LAST-MODIFIED:20241222T081943Z
UID:5748-1735125300-1735129800@ontmoetingskerkonline.nl
SUMMARY:Kerkdienst: Ds LJ Koopman | 1e Kerstdag
DESCRIPTION:
URL:https://ontmoetingskerkonline.nl/kerkdienst/kerkdienst-ds-lj-koopman-13/
CATEGORIES:CGK
END:VEVENT
BEGIN:VEVENT
DTSTART;TZID=Europe/Helsinki:20241229T111500
DTEND;TZID=Europe/Helsinki:20241229T123000
DTSTAMP:20260422T115057
CREATED:20241222T082038Z
LAST-MODIFIED:20241222T082038Z
UID:5751-1735470900-1735475400@ontmoetingskerkonline.nl
SUMMARY:Kerkdienst: Ds NC Smits
DESCRIPTION:
URL:https://ontmoetingskerkonline.nl/kerkdienst/kerkdienst-ds-nc-smits/
CATEGORIES:CGK
END:VEVENT
BEGIN:VEVENT
DTSTART;TZID=Europe/Helsinki:20241229T180000
DTEND;TZID=Europe/Helsinki:20241229T191500
DTSTAMP:20260422T115057
CREATED:20241222T082113Z
LAST-MODIFIED:20241222T082113Z
UID:5753-1735495200-1735499700@ontmoetingskerkonline.nl
SUMMARY:Kerkdienst: Ds AGM Weststrate
DESCRIPTION:
URL:https://ontmoetingskerkonline.nl/kerkdienst/kerkdienst-ds-agm-weststrate/
CATEGORIES:CGK
END:VEVENT
BEGIN:VEVENT
DTSTART;TZID=Europe/Helsinki:20241231T183000
DTEND;TZID=Europe/Helsinki:20241231T190000
DTSTAMP:20260422T115057
CREATED:20241029T133933Z
LAST-MODIFIED:20241029T133933Z
UID:5579-1735669800-1735671600@ontmoetingskerkonline.nl
SUMMARY:Kerkdienst Ds. L.J. Koopman\, Oudejaarsavond
DESCRIPTION:
URL:https://ontmoetingskerkonline.nl/kerkdienst/kerkdienst-ds-l-j-koopman-oudejaarsavond/
CATEGORIES:CGK
END:VEVENT
END:VCALENDAR