BEGIN:VCALENDAR
VERSION:2.0
PRODID:-//Ontmoetingskerk | Capelle aan den IJssel - ECPv6.10.1.1//NONSGML v1.0//EN
CALSCALE:GREGORIAN
METHOD:PUBLISH
X-ORIGINAL-URL:https://ontmoetingskerkonline.nl
X-WR-CALDESC:Evenementen voor Ontmoetingskerk | Capelle aan den IJssel
REFRESH-INTERVAL;VALUE=DURATION:PT1H
X-Robots-Tag:noindex
X-PUBLISHED-TTL:PT1H
BEGIN:VTIMEZONE
TZID:Europe/Helsinki
BEGIN:DAYLIGHT
TZOFFSETFROM:+0200
TZOFFSETTO:+0300
TZNAME:EEST
DTSTART:20250330T010000
END:DAYLIGHT
BEGIN:STANDARD
TZOFFSETFROM:+0300
TZOFFSETTO:+0200
TZNAME:EET
DTSTART:20251026T010000
END:STANDARD
END:VTIMEZONE
BEGIN:VEVENT
DTSTART;TZID=Europe/Helsinki:20250105T111500
DTEND;TZID=Europe/Helsinki:20250105T123000
DTSTAMP:20260422T101143
CREATED:20241222T082332Z
LAST-MODIFIED:20241222T082332Z
UID:5755-1736075700-1736080200@ontmoetingskerkonline.nl
SUMMARY:Kerkdienst: Ds FW van der Rhee
DESCRIPTION:
URL:https://ontmoetingskerkonline.nl/kerkdienst/kerkdienst-ds-fw-van-der-rhee/
CATEGORIES:CGK
END:VEVENT
BEGIN:VEVENT
DTSTART;TZID=Europe/Helsinki:20250105T180000
DTEND;TZID=Europe/Helsinki:20250105T191500
DTSTAMP:20260422T101143
CREATED:20241222T082401Z
LAST-MODIFIED:20241222T082401Z
UID:5757-1736100000-1736104500@ontmoetingskerkonline.nl
SUMMARY:Kerkdienst: Ds FW van der Rhee
DESCRIPTION:
URL:https://ontmoetingskerkonline.nl/kerkdienst/kerkdienst-ds-fw-van-der-rhee-2/
CATEGORIES:CGK
END:VEVENT
BEGIN:VEVENT
DTSTART;TZID=Europe/Helsinki:20250112T111500
DTEND;TZID=Europe/Helsinki:20250112T123000
DTSTAMP:20260422T101143
CREATED:20241222T082433Z
LAST-MODIFIED:20241222T082433Z
UID:5759-1736680500-1736685000@ontmoetingskerkonline.nl
SUMMARY:Kerkdienst: Ds LJ Koopman
DESCRIPTION:
URL:https://ontmoetingskerkonline.nl/kerkdienst/kerkdienst-ds-lj-koopman-14/
CATEGORIES:CGK
END:VEVENT
BEGIN:VEVENT
DTSTART;TZID=Europe/Helsinki:20250112T180000
DTEND;TZID=Europe/Helsinki:20250112T191500
DTSTAMP:20260422T101143
CREATED:20241222T082501Z
LAST-MODIFIED:20241222T082501Z
UID:5761-1736704800-1736709300@ontmoetingskerkonline.nl
SUMMARY:Kerkdienst: Ds M Bot
DESCRIPTION:
URL:https://ontmoetingskerkonline.nl/kerkdienst/kerkdienst-ds-m-bot-2/
CATEGORIES:CGK
END:VEVENT
BEGIN:VEVENT
DTSTART;TZID=Europe/Helsinki:20250119T111500
DTEND;TZID=Europe/Helsinki:20250119T123000
DTSTAMP:20260422T101143
CREATED:20241222T082530Z
LAST-MODIFIED:20241222T082530Z
UID:5763-1737285300-1737289800@ontmoetingskerkonline.nl
SUMMARY:Kerkdienst: Ds C Brouwer
DESCRIPTION:
URL:https://ontmoetingskerkonline.nl/kerkdienst/kerkdienst-ds-c-brouwer/
CATEGORIES:CGK
END:VEVENT
BEGIN:VEVENT
DTSTART;TZID=Europe/Helsinki:20250119T180000
DTEND;TZID=Europe/Helsinki:20250119T191500
DTSTAMP:20260422T101143
CREATED:20241222T082607Z
LAST-MODIFIED:20241222T082607Z
UID:5765-1737309600-1737314100@ontmoetingskerkonline.nl
SUMMARY:Kerkdienst: Ds LJ Koopman
DESCRIPTION:
URL:https://ontmoetingskerkonline.nl/kerkdienst/kerkdienst-ds-lj-koopman-15/
CATEGORIES:CGK
END:VEVENT
BEGIN:VEVENT
DTSTART;TZID=Europe/Helsinki:20250126T111500
DTEND;TZID=Europe/Helsinki:20250126T123000
DTSTAMP:20260422T101143
CREATED:20241222T082636Z
LAST-MODIFIED:20241222T082636Z
UID:5767-1737890100-1737894600@ontmoetingskerkonline.nl
SUMMARY:Kerkdienst: Ds LJ Koopman
DESCRIPTION:
URL:https://ontmoetingskerkonline.nl/kerkdienst/kerkdienst-ds-lj-koopman-16/
CATEGORIES:CGK
END:VEVENT
BEGIN:VEVENT
DTSTART;TZID=Europe/Helsinki:20250126T180000
DTEND;TZID=Europe/Helsinki:20250126T191500
DTSTAMP:20260422T101143
CREATED:20241222T082703Z
LAST-MODIFIED:20241222T082703Z
UID:5769-1737914400-1737918900@ontmoetingskerkonline.nl
SUMMARY:Kerkdienst: Ds LJ Koopman
DESCRIPTION:
URL:https://ontmoetingskerkonline.nl/kerkdienst/kerkdienst-ds-lj-koopman-17/
CATEGORIES:CGK
END:VEVENT
END:VCALENDAR