BEGIN:VCALENDAR
VERSION:2.0
PRODID:-//Ontmoetingskerk | Capelle aan den IJssel - ECPv6.10.1.1//NONSGML v1.0//EN
CALSCALE:GREGORIAN
METHOD:PUBLISH
X-ORIGINAL-URL:https://ontmoetingskerkonline.nl
X-WR-CALDESC:Evenementen voor Ontmoetingskerk | Capelle aan den IJssel
REFRESH-INTERVAL;VALUE=DURATION:PT1H
X-Robots-Tag:noindex
X-PUBLISHED-TTL:PT1H
BEGIN:VTIMEZONE
TZID:Europe/Helsinki
BEGIN:DAYLIGHT
TZOFFSETFROM:+0200
TZOFFSETTO:+0300
TZNAME:EEST
DTSTART:20260329T010000
END:DAYLIGHT
BEGIN:STANDARD
TZOFFSETFROM:+0300
TZOFFSETTO:+0200
TZNAME:EET
DTSTART:20261025T010000
END:STANDARD
END:VTIMEZONE
BEGIN:VEVENT
DTSTART;TZID=Europe/Helsinki:20260301T111500
DTEND;TZID=Europe/Helsinki:20260301T123000
DTSTAMP:20260421T115655
CREATED:20260301T080241Z
LAST-MODIFIED:20260301T080311Z
UID:6307-1772363700-1772368200@ontmoetingskerkonline.nl
SUMMARY:Kerkdienst: Ds. G.M. Bijkerk (PKN)
DESCRIPTION:
URL:https://ontmoetingskerkonline.nl/kerkdienst/voorganger-ds-g-m-bijkerk-pkn/
CATEGORIES:CGK
END:VEVENT
BEGIN:VEVENT
DTSTART;TZID=Europe/Helsinki:20260301T180000
DTEND;TZID=Europe/Helsinki:20260301T193000
DTSTAMP:20260421T115655
CREATED:20260301T080406Z
LAST-MODIFIED:20260301T080406Z
UID:6310-1772388000-1772393400@ontmoetingskerkonline.nl
SUMMARY:Kerkdienst: Ds. J.L. de Jong
DESCRIPTION:
URL:https://ontmoetingskerkonline.nl/kerkdienst/kerkdienst-ds-j-l-de-jong/
CATEGORIES:CGK
END:VEVENT
BEGIN:VEVENT
DTSTART;TZID=Europe/Helsinki:20260308T111500
DTEND;TZID=Europe/Helsinki:20260308T123000
DTSTAMP:20260421T115655
CREATED:20260301T080433Z
LAST-MODIFIED:20260301T080433Z
UID:6313-1772968500-1772973000@ontmoetingskerkonline.nl
SUMMARY:Kerkdienst: Ds. B. Loonstra
DESCRIPTION:
URL:https://ontmoetingskerkonline.nl/kerkdienst/kerkdienst-ds-b-loonstra/
CATEGORIES:CGK
END:VEVENT
BEGIN:VEVENT
DTSTART;TZID=Europe/Helsinki:20260308T180000
DTEND;TZID=Europe/Helsinki:20260308T191500
DTSTAMP:20260421T115655
CREATED:20260301T080501Z
LAST-MODIFIED:20260301T080501Z
UID:6315-1772992800-1772997300@ontmoetingskerkonline.nl
SUMMARY:Kerkdienst: Ds. B. Loonstra
DESCRIPTION:
URL:https://ontmoetingskerkonline.nl/kerkdienst/kerkdienst-ds-b-loonstra-2/
CATEGORIES:CGK
END:VEVENT
BEGIN:VEVENT
DTSTART;TZID=Europe/Helsinki:20260311T150000
DTEND;TZID=Europe/Helsinki:20260311T163000
DTSTAMP:20260421T115655
CREATED:20260110T093251Z
LAST-MODIFIED:20260301T080649Z
UID:6266-1773241200-1773246600@ontmoetingskerkonline.nl
SUMMARY:Kerkdienst\, Ds J. van Vulpen Biddag voor gewas en arbeid
DESCRIPTION:Gezamelijke kerkdienst voor HWS en CGK onder verantwoording van de CGK.
URL:https://ontmoetingskerkonline.nl/kerkdienst/kerkdienst-biddag-voor-gewas-en-arbeid/
CATEGORIES:CGK
END:VEVENT
BEGIN:VEVENT
DTSTART;TZID=Europe/Helsinki:20260315T111500
DTEND;TZID=Europe/Helsinki:20260315T123000
DTSTAMP:20260421T115655
CREATED:20260301T080720Z
LAST-MODIFIED:20260301T080727Z
UID:6320-1773573300-1773577800@ontmoetingskerkonline.nl
SUMMARY:Kerkdienst: Ds H. van der Ham
DESCRIPTION:
URL:https://ontmoetingskerkonline.nl/kerkdienst/kerkdienst-ds-h-van-der-ham-2/
CATEGORIES:CGK
END:VEVENT
BEGIN:VEVENT
DTSTART;TZID=Europe/Helsinki:20260315T180000
DTEND;TZID=Europe/Helsinki:20260315T191500
DTSTAMP:20260421T115655
CREATED:20260301T080811Z
LAST-MODIFIED:20260301T080919Z
UID:6322-1773597600-1773602100@ontmoetingskerkonline.nl
SUMMARY:Kerkdienst: Ds H. van der Ham
DESCRIPTION:
URL:https://ontmoetingskerkonline.nl/kerkdienst/kerkdienst-ds-h-van-der-ham-3/
CATEGORIES:CGK
END:VEVENT
BEGIN:VEVENT
DTSTART;TZID=Europe/Helsinki:20260322T111500
DTEND;TZID=Europe/Helsinki:20260322T123000
DTSTAMP:20260421T115655
CREATED:20260301T081118Z
LAST-MODIFIED:20260301T081118Z
UID:6324-1774178100-1774182600@ontmoetingskerkonline.nl
SUMMARY:Kerkdienst: Ds G.J.H. Vogel
DESCRIPTION:
URL:https://ontmoetingskerkonline.nl/kerkdienst/kerkdienst-ds-g-j-h-vogel/
CATEGORIES:CGK
END:VEVENT
BEGIN:VEVENT
DTSTART;TZID=Europe/Helsinki:20260322T180000
DTEND;TZID=Europe/Helsinki:20260322T191500
DTSTAMP:20260421T115655
CREATED:20260301T081152Z
LAST-MODIFIED:20260301T081152Z
UID:6326-1774202400-1774206900@ontmoetingskerkonline.nl
SUMMARY:Kerkdienst: voorganger nog niet bekend
DESCRIPTION:
URL:https://ontmoetingskerkonline.nl/kerkdienst/kerkdienst-voorganger-nog-niet-bekend-3/
CATEGORIES:CGK
END:VEVENT
BEGIN:VEVENT
DTSTART;TZID=Europe/Helsinki:20260329T111500
DTEND;TZID=Europe/Helsinki:20260329T123000
DTSTAMP:20260421T115655
CREATED:20260301T081219Z
LAST-MODIFIED:20260301T081219Z
UID:6328-1774782900-1774787400@ontmoetingskerkonline.nl
SUMMARY:Kerkdienst: Ds B. Reinders
DESCRIPTION:
URL:https://ontmoetingskerkonline.nl/kerkdienst/kerkdienst-ds-b-reinders-6/
CATEGORIES:CGK
END:VEVENT
BEGIN:VEVENT
DTSTART;TZID=Europe/Helsinki:20260329T180000
DTEND;TZID=Europe/Helsinki:20260329T191500
DTSTAMP:20260421T115655
CREATED:20260301T081248Z
LAST-MODIFIED:20260301T081248Z
UID:6330-1774807200-1774811700@ontmoetingskerkonline.nl
SUMMARY:Kerkdienst: Ds B. Reinders
DESCRIPTION:
URL:https://ontmoetingskerkonline.nl/kerkdienst/kerkdienst-ds-b-reinders-7/
CATEGORIES:CGK
END:VEVENT
END:VCALENDAR