BEGIN:VCALENDAR
VERSION:2.0
PRODID:-//Ontmoetingskerk | Capelle aan den IJssel - ECPv6.10.1.1//NONSGML v1.0//EN
CALSCALE:GREGORIAN
METHOD:PUBLISH
X-ORIGINAL-URL:https://ontmoetingskerkonline.nl
X-WR-CALDESC:Evenementen voor Ontmoetingskerk | Capelle aan den IJssel
REFRESH-INTERVAL;VALUE=DURATION:PT1H
X-Robots-Tag:noindex
X-PUBLISHED-TTL:PT1H
BEGIN:VTIMEZONE
TZID:Europe/Helsinki
BEGIN:DAYLIGHT
TZOFFSETFROM:+0200
TZOFFSETTO:+0300
TZNAME:EEST
DTSTART:20240331T010000
END:DAYLIGHT
BEGIN:STANDARD
TZOFFSETFROM:+0300
TZOFFSETTO:+0200
TZNAME:EET
DTSTART:20241027T010000
END:STANDARD
END:VTIMEZONE
BEGIN:VEVENT
DTSTART;TZID=Europe/Helsinki:20241006T111500
DTEND;TZID=Europe/Helsinki:20241006T123000
DTSTAMP:20260422T183645
CREATED:20240915T125356Z
LAST-MODIFIED:20240915T125539Z
UID:4460-1728213300-1728217800@ontmoetingskerkonline.nl
SUMMARY:Kerkdienst: Ds. H. Mulder
DESCRIPTION:
URL:https://ontmoetingskerkonline.nl/kerkdienst/voorganger-ds-h-mulder/
CATEGORIES:CGK
END:VEVENT
BEGIN:VEVENT
DTSTART;TZID=Europe/Helsinki:20241006T180000
DTEND;TZID=Europe/Helsinki:20241006T191500
DTSTAMP:20260422T183645
CREATED:20240915T125431Z
LAST-MODIFIED:20240915T125515Z
UID:4462-1728237600-1728242100@ontmoetingskerkonline.nl
SUMMARY:Kerkdienst: Ds. F.W. van der Rhee
DESCRIPTION:
URL:https://ontmoetingskerkonline.nl/kerkdienst/voorganger-ds-f-w-van-der-rhee/
CATEGORIES:CGK
END:VEVENT
END:VCALENDAR