BEGIN:VCALENDAR
VERSION:2.0
PRODID:-//Ontmoetingskerk | Capelle aan den IJssel - ECPv6.10.1.1//NONSGML v1.0//EN
CALSCALE:GREGORIAN
METHOD:PUBLISH
X-ORIGINAL-URL:https://ontmoetingskerkonline.nl
X-WR-CALDESC:Evenementen voor Ontmoetingskerk | Capelle aan den IJssel
REFRESH-INTERVAL;VALUE=DURATION:PT1H
X-Robots-Tag:noindex
X-PUBLISHED-TTL:PT1H
BEGIN:VTIMEZONE
TZID:Europe/Helsinki
BEGIN:DAYLIGHT
TZOFFSETFROM:+0200
TZOFFSETTO:+0300
TZNAME:EEST
DTSTART:20240331T010000
END:DAYLIGHT
BEGIN:STANDARD
TZOFFSETFROM:+0300
TZOFFSETTO:+0200
TZNAME:EET
DTSTART:20241027T010000
END:STANDARD
END:VTIMEZONE
BEGIN:VEVENT
DTSTART;TZID=Europe/Helsinki:20241117T111500
DTEND;TZID=Europe/Helsinki:20241117T111500
DTSTAMP:20260422T150054
CREATED:20241104T200154Z
LAST-MODIFIED:20241104T200820Z
UID:5607-1731842100-1731842100@ontmoetingskerkonline.nl
SUMMARY:Kerkdienst DS LJ Koopman | Themazondag #2
DESCRIPTION:
URL:https://ontmoetingskerkonline.nl/kerkdienst/kerkdienst-ds-lj-koopman-8/
CATEGORIES:CGK
END:VEVENT
BEGIN:VEVENT
DTSTART;TZID=Europe/Helsinki:20241117T180000
DTEND;TZID=Europe/Helsinki:20241117T180000
DTSTAMP:20260422T150054
CREATED:20241104T200252Z
LAST-MODIFIED:20241104T200804Z
UID:5609-1731866400-1731866400@ontmoetingskerkonline.nl
SUMMARY:Kerkdienst Ds LJ Koopman | Themazondag #2
DESCRIPTION:
URL:https://ontmoetingskerkonline.nl/kerkdienst/kerkdienst-ds-lj-koopman-9/
CATEGORIES:CGK
END:VEVENT
END:VCALENDAR