BEGIN:VCALENDAR
VERSION:2.0
PRODID:-//Ontmoetingskerk | Capelle aan den IJssel - ECPv6.10.1.1//NONSGML v1.0//EN
CALSCALE:GREGORIAN
METHOD:PUBLISH
X-WR-CALNAME:Ontmoetingskerk | Capelle aan den IJssel
X-ORIGINAL-URL:https://ontmoetingskerkonline.nl
X-WR-CALDESC:Evenementen voor Ontmoetingskerk | Capelle aan den IJssel
REFRESH-INTERVAL;VALUE=DURATION:PT1H
X-Robots-Tag:noindex
X-PUBLISHED-TTL:PT1H
BEGIN:VTIMEZONE
TZID:Europe/Helsinki
BEGIN:DAYLIGHT
TZOFFSETFROM:+0200
TZOFFSETTO:+0300
TZNAME:EEST
DTSTART:20260329T010000
END:DAYLIGHT
BEGIN:STANDARD
TZOFFSETFROM:+0300
TZOFFSETTO:+0200
TZNAME:EET
DTSTART:20261025T010000
END:STANDARD
END:VTIMEZONE
BEGIN:VEVENT
DTSTART;TZID=Europe/Helsinki:20260301T111500
DTEND;TZID=Europe/Helsinki:20260301T123000
DTSTAMP:20260421T141407
CREATED:20260301T080241Z
LAST-MODIFIED:20260301T080311Z
UID:6307-1772363700-1772368200@ontmoetingskerkonline.nl
SUMMARY:Kerkdienst: Ds. G.M. Bijkerk (PKN)
DESCRIPTION:
URL:https://ontmoetingskerkonline.nl/kerkdienst/voorganger-ds-g-m-bijkerk-pkn/
CATEGORIES:CGK
END:VEVENT
BEGIN:VEVENT
DTSTART;TZID=Europe/Helsinki:20260301T180000
DTEND;TZID=Europe/Helsinki:20260301T193000
DTSTAMP:20260421T141407
CREATED:20260301T080406Z
LAST-MODIFIED:20260301T080406Z
UID:6310-1772388000-1772393400@ontmoetingskerkonline.nl
SUMMARY:Kerkdienst: Ds. J.L. de Jong
DESCRIPTION:
URL:https://ontmoetingskerkonline.nl/kerkdienst/kerkdienst-ds-j-l-de-jong/
CATEGORIES:CGK
END:VEVENT
END:VCALENDAR