BEGIN:VCALENDAR
VERSION:2.0
PRODID:-//Ontmoetingskerk | Capelle aan den IJssel - ECPv6.10.1.1//NONSGML v1.0//EN
CALSCALE:GREGORIAN
METHOD:PUBLISH
X-WR-CALNAME:Ontmoetingskerk | Capelle aan den IJssel
X-ORIGINAL-URL:https://ontmoetingskerkonline.nl
X-WR-CALDESC:Evenementen voor Ontmoetingskerk | Capelle aan den IJssel
REFRESH-INTERVAL;VALUE=DURATION:PT1H
X-Robots-Tag:noindex
X-PUBLISHED-TTL:PT1H
BEGIN:VTIMEZONE
TZID:Europe/Helsinki
BEGIN:DAYLIGHT
TZOFFSETFROM:+0200
TZOFFSETTO:+0300
TZNAME:EEST
DTSTART:20250330T010000
END:DAYLIGHT
BEGIN:STANDARD
TZOFFSETFROM:+0300
TZOFFSETTO:+0200
TZNAME:EET
DTSTART:20251026T010000
END:STANDARD
END:VTIMEZONE
BEGIN:VEVENT
DTSTART;TZID=Europe/Helsinki:20250406T111500
DTEND;TZID=Europe/Helsinki:20250406T123000
DTSTAMP:20260422T071950
CREATED:20250406T090140Z
LAST-MODIFIED:20250406T090140Z
UID:5914-1743938100-1743942600@ontmoetingskerkonline.nl
SUMMARY:Kerkdienst ds JL Koopman
DESCRIPTION:
URL:https://ontmoetingskerkonline.nl/kerkdienst/kerkdienst-ds-jl-koopman/
CATEGORIES:CGK
END:VEVENT
BEGIN:VEVENT
DTSTART;TZID=Europe/Helsinki:20250406T173000
DTEND;TZID=Europe/Helsinki:20250406T184500
DTSTAMP:20260422T071950
CREATED:20250406T091315Z
LAST-MODIFIED:20250406T091315Z
UID:5934-1743960600-1743965100@ontmoetingskerkonline.nl
SUMMARY:Kerkdienst Prof GC den Hertog
DESCRIPTION:
URL:https://ontmoetingskerkonline.nl/kerkdienst/kerkdienst-prof-gc-den-hertog-2/
CATEGORIES:CGK
END:VEVENT
BEGIN:VEVENT
DTSTART;TZID=Europe/Helsinki:20250406T180000
DTEND;TZID=Europe/Helsinki:20250406T191500
DTSTAMP:20260422T071950
CREATED:20250406T090209Z
LAST-MODIFIED:20250406T090209Z
UID:5916-1743962400-1743966900@ontmoetingskerkonline.nl
SUMMARY:Kerkdienst ds LJ Koopman
DESCRIPTION:
URL:https://ontmoetingskerkonline.nl/kerkdienst/kerkdienst-ds-lj-koopman-23/
CATEGORIES:CGK
END:VEVENT
BEGIN:VEVENT
DTSTART;TZID=Europe/Helsinki:20250412T200000
DTEND;TZID=Europe/Helsinki:20250412T220000
DTSTAMP:20260422T071950
CREATED:20250328T100819Z
LAST-MODIFIED:20250328T100819Z
UID:5883-1744488000-1744495200@ontmoetingskerkonline.nl
SUMMARY:De Marcus Passie
DESCRIPTION:De Marcus Passie van Hans Boelee wordt op zaterdag 12 april a.s. door het Christelijk Gemengd Koor Capelle uitgevoerd in de Ontmoetingskerk in Capelle a/d IJssel. Leer mij\, o Heer\, Uw lijden recht betrachten Met dit bekende lied begint de Marcus Passie. \nIn de Marcus Passie wordt het lijden van Jezus op indrukwekkende wijze verwoord door middel van bekende liederen die verbonden worden door teksten uit het Marcus evangelie. De Marcus Passie ligt door die bekende liederen goed in het gehoor. Er is ook ruimte voor samenzang. Medewerking wordt verleend door bariton Henk van Mierlo en liturg Albert-Jan Wink. \nHet geheel staat onder leiding van dirigent Ad de Joode. \nDe aanvang is 20.00 uur en de toegang is gratis. Bij de uitgang wordt een collecte gehouden voor de gemaakte kosten en Stille Armoede. \nHartelijk welkom!
URL:https://ontmoetingskerkonline.nl/kerkdienst/de-marcus-passie/
CATEGORIES:CGK
END:VEVENT
BEGIN:VEVENT
DTSTART;TZID=Europe/Helsinki:20250413T111500
DTEND;TZID=Europe/Helsinki:20250413T123000
DTSTAMP:20260422T071950
CREATED:20250406T090258Z
LAST-MODIFIED:20250406T090258Z
UID:5918-1744542900-1744547400@ontmoetingskerkonline.nl
SUMMARY:Kerkdienst ds LJ Koopman
DESCRIPTION:
URL:https://ontmoetingskerkonline.nl/kerkdienst/kerkdienst-ds-lj-koopman-24/
CATEGORIES:CGK
END:VEVENT
BEGIN:VEVENT
DTSTART;TZID=Europe/Helsinki:20250413T180000
DTEND;TZID=Europe/Helsinki:20250413T191500
DTSTAMP:20260422T071950
CREATED:20250406T090342Z
LAST-MODIFIED:20250406T090342Z
UID:5920-1744567200-1744571700@ontmoetingskerkonline.nl
SUMMARY:Kerkdienst ds C Brouwer
DESCRIPTION:
URL:https://ontmoetingskerkonline.nl/kerkdienst/kerkdienst-ds-c-brouwer-2/
CATEGORIES:CGK
END:VEVENT
BEGIN:VEVENT
DTSTART;TZID=Europe/Helsinki:20250418T193000
DTEND;TZID=Europe/Helsinki:20250418T204500
DTSTAMP:20260422T071950
CREATED:20250406T090514Z
LAST-MODIFIED:20250406T090514Z
UID:5922-1745004600-1745009100@ontmoetingskerkonline.nl
SUMMARY:Kerkdienst ds LJ Koopmam | Goede Vrijdag
DESCRIPTION:
URL:https://ontmoetingskerkonline.nl/kerkdienst/kerkdienst-ds-lj-koopmam-goede-vrijdag/
CATEGORIES:CGK
END:VEVENT
BEGIN:VEVENT
DTSTART;TZID=Europe/Helsinki:20250420T111500
DTEND;TZID=Europe/Helsinki:20250420T123000
DTSTAMP:20260422T071950
CREATED:20250406T090554Z
LAST-MODIFIED:20250406T090554Z
UID:5924-1745147700-1745152200@ontmoetingskerkonline.nl
SUMMARY:Kerkdienst ds LJ Koopman | 1e Paasdag
DESCRIPTION:
URL:https://ontmoetingskerkonline.nl/kerkdienst/kerkdienst-ds-lj-koopman-1e-paasdag/
CATEGORIES:CGK
END:VEVENT
BEGIN:VEVENT
DTSTART;TZID=Europe/Helsinki:20250420T180000
DTEND;TZID=Europe/Helsinki:20250420T191500
DTSTAMP:20260422T071950
CREATED:20250406T090627Z
LAST-MODIFIED:20250406T090627Z
UID:5926-1745172000-1745176500@ontmoetingskerkonline.nl
SUMMARY:Kerkdienst ds LJ Koopman
DESCRIPTION:
URL:https://ontmoetingskerkonline.nl/kerkdienst/kerkdienst-ds-lj-koopman-25/
CATEGORIES:CGK
END:VEVENT
BEGIN:VEVENT
DTSTART;TZID=Europe/Helsinki:20250427T111500
DTEND;TZID=Europe/Helsinki:20250427T123000
DTSTAMP:20260422T071950
CREATED:20250406T090724Z
LAST-MODIFIED:20250406T090724Z
UID:5928-1745752500-1745757000@ontmoetingskerkonline.nl
SUMMARY:Kerkdienst ds LJ Koopman | Afscheidsdienst
DESCRIPTION:
URL:https://ontmoetingskerkonline.nl/kerkdienst/kerkdienst-ds-lj-koopman-afscheidsdienst/
CATEGORIES:CGK
END:VEVENT
BEGIN:VEVENT
DTSTART;TZID=Europe/Helsinki:20250427T180000
DTEND;TZID=Europe/Helsinki:20250427T191500
DTSTAMP:20260422T071950
CREATED:20250406T090752Z
LAST-MODIFIED:20250406T090752Z
UID:5930-1745776800-1745781300@ontmoetingskerkonline.nl
SUMMARY:Kerkdienst ds A Mak
DESCRIPTION:
URL:https://ontmoetingskerkonline.nl/kerkdienst/kerkdienst-ds-a-mak/
CATEGORIES:CGK
END:VEVENT
BEGIN:VEVENT
DTSTART;TZID=Europe/Helsinki:20250504T111500
DTEND;TZID=Europe/Helsinki:20250504T123000
DTSTAMP:20260422T071950
CREATED:20250406T091243Z
LAST-MODIFIED:20250406T091243Z
UID:5932-1746357300-1746361800@ontmoetingskerkonline.nl
SUMMARY:Kerkdienst Prof GC den Hertog
DESCRIPTION:
URL:https://ontmoetingskerkonline.nl/kerkdienst/kerkdienst-prof-gc-den-hertog/
CATEGORIES:CGK
END:VEVENT
BEGIN:VEVENT
DTSTART;TZID=Europe/Helsinki:20250511T111500
DTEND;TZID=Europe/Helsinki:20250511T123000
DTSTAMP:20260422T071950
CREATED:20250406T091419Z
LAST-MODIFIED:20250406T091419Z
UID:5936-1746962100-1746966600@ontmoetingskerkonline.nl
SUMMARY:Kerkdienst Ds JW Schoonderwoerd
DESCRIPTION:
URL:https://ontmoetingskerkonline.nl/kerkdienst/kerkdienst-ds-jw-schoonderwoerd/
CATEGORIES:CGK
END:VEVENT
BEGIN:VEVENT
DTSTART;TZID=Europe/Helsinki:20250511T180000
DTEND;TZID=Europe/Helsinki:20250511T191500
DTSTAMP:20260422T071950
CREATED:20250406T091531Z
LAST-MODIFIED:20250406T091531Z
UID:5939-1746986400-1746990900@ontmoetingskerkonline.nl
SUMMARY:Kerkdienst Ds JW Schoonderwoerd
DESCRIPTION:
URL:https://ontmoetingskerkonline.nl/kerkdienst/kerkdienst-ds-jw-schoonderwoerd-2/
CATEGORIES:CGK
END:VEVENT
BEGIN:VEVENT
DTSTART;TZID=Europe/Helsinki:20250518T111500
DTEND;TZID=Europe/Helsinki:20250518T123000
DTSTAMP:20260422T071950
CREATED:20250406T091635Z
LAST-MODIFIED:20250406T091635Z
UID:5942-1747566900-1747571400@ontmoetingskerkonline.nl
SUMMARY:Kerkdienst Ds AJ Mouw | Themazondag
DESCRIPTION:
URL:https://ontmoetingskerkonline.nl/kerkdienst/kerkdienst-ds-aj-mouw-themazondag/
CATEGORIES:CGK
END:VEVENT
BEGIN:VEVENT
DTSTART;TZID=Europe/Helsinki:20250518T180000
DTEND;TZID=Europe/Helsinki:20250518T191500
DTSTAMP:20260422T071950
CREATED:20250406T091709Z
LAST-MODIFIED:20250406T091709Z
UID:5944-1747591200-1747595700@ontmoetingskerkonline.nl
SUMMARY:Kerkdienst\, voorganger nog niet bekend | Themazondag
DESCRIPTION:
URL:https://ontmoetingskerkonline.nl/kerkdienst/kerkdienst-voorganger-nog-niet-bekend-themazondag/
CATEGORIES:CGK
END:VEVENT
BEGIN:VEVENT
DTSTART;TZID=Europe/Helsinki:20250525T111500
DTEND;TZID=Europe/Helsinki:20250525T123000
DTSTAMP:20260422T071950
CREATED:20250406T091744Z
LAST-MODIFIED:20250406T091744Z
UID:5946-1748171700-1748176200@ontmoetingskerkonline.nl
SUMMARY:Kerkdienst Ds PA Kok
DESCRIPTION:
URL:https://ontmoetingskerkonline.nl/kerkdienst/kerkdienst-ds-pa-kok/
CATEGORIES:CGK
END:VEVENT
BEGIN:VEVENT
DTSTART;TZID=Europe/Helsinki:20250525T180000
DTEND;TZID=Europe/Helsinki:20250525T191500
DTSTAMP:20260422T071950
CREATED:20250406T091810Z
LAST-MODIFIED:20250406T091810Z
UID:5949-1748196000-1748200500@ontmoetingskerkonline.nl
SUMMARY:Kerkdienst Ds HK Sok
DESCRIPTION:
URL:https://ontmoetingskerkonline.nl/kerkdienst/kerkdienst-ds-hk-sok/
CATEGORIES:CGK
END:VEVENT
BEGIN:VEVENT
DTSTART;TZID=Europe/Helsinki:20250529T111500
DTEND;TZID=Europe/Helsinki:20250529T123000
DTSTAMP:20260422T071950
CREATED:20250406T091851Z
LAST-MODIFIED:20250406T091851Z
UID:5951-1748517300-1748521800@ontmoetingskerkonline.nl
SUMMARY:Kerkdienst Ds M van Heijningen | Hemelvaartsdag
DESCRIPTION:
URL:https://ontmoetingskerkonline.nl/kerkdienst/kerkdienst-ds-m-van-heijningen-hemelvaartsdag/
CATEGORIES:CGK
END:VEVENT
BEGIN:VEVENT
DTSTART;TZID=Europe/Helsinki:20250601T111500
DTEND;TZID=Europe/Helsinki:20250601T123000
DTSTAMP:20260422T071950
CREATED:20250406T091955Z
LAST-MODIFIED:20250406T091955Z
UID:5953-1748776500-1748781000@ontmoetingskerkonline.nl
SUMMARY:Kerkdienst Ds J Hardeman
DESCRIPTION:
URL:https://ontmoetingskerkonline.nl/kerkdienst/kerkdienst-ds-j-hardeman/
CATEGORIES:CGK
END:VEVENT
BEGIN:VEVENT
DTSTART;TZID=Europe/Helsinki:20250601T180000
DTEND;TZID=Europe/Helsinki:20250601T191500
DTSTAMP:20260422T071950
CREATED:20250406T092019Z
LAST-MODIFIED:20250406T092019Z
UID:5955-1748800800-1748805300@ontmoetingskerkonline.nl
SUMMARY:Kerkdienst Ds J Hardeman
DESCRIPTION:
URL:https://ontmoetingskerkonline.nl/kerkdienst/kerkdienst-ds-j-hardeman-2/
CATEGORIES:CGK
END:VEVENT
BEGIN:VEVENT
DTSTART;TZID=Europe/Helsinki:20250608T111500
DTEND;TZID=Europe/Helsinki:20250608T123000
DTSTAMP:20260422T071950
CREATED:20250406T092051Z
LAST-MODIFIED:20250531T073043Z
UID:5957-1749381300-1749385800@ontmoetingskerkonline.nl
SUMMARY:Kerkdienst Ev. C. van Breugel | 1e Pinksterdag
DESCRIPTION:
URL:https://ontmoetingskerkonline.nl/kerkdienst/kerkdienst-ds-b-van-egmond-1e-pinksterdag/
CATEGORIES:CGK
END:VEVENT
BEGIN:VEVENT
DTSTART;TZID=Europe/Helsinki:20250608T180000
DTEND;TZID=Europe/Helsinki:20250608T191500
DTSTAMP:20260422T071950
CREATED:20250406T092132Z
LAST-MODIFIED:20250531T073104Z
UID:5959-1749405600-1749410100@ontmoetingskerkonline.nl
SUMMARY:Kerkdienst Ds B. van Egmond
DESCRIPTION:
URL:https://ontmoetingskerkonline.nl/kerkdienst/kerkdienst-ev-c-van-breugel-2/
CATEGORIES:CGK
END:VEVENT
BEGIN:VEVENT
DTSTART;TZID=Europe/Helsinki:20250615T111500
DTEND;TZID=Europe/Helsinki:20250615T123000
DTSTAMP:20260422T071950
CREATED:20250406T092208Z
LAST-MODIFIED:20250531T073134Z
UID:5961-1749986100-1749990600@ontmoetingskerkonline.nl
SUMMARY:Kerkdienst Ds J. Muller
DESCRIPTION:
URL:https://ontmoetingskerkonline.nl/kerkdienst/kerkdienst-voorganger-nog-niet-bekend/
CATEGORIES:CGK
END:VEVENT
BEGIN:VEVENT
DTSTART;TZID=Europe/Helsinki:20250615T180000
DTEND;TZID=Europe/Helsinki:20250615T191500
DTSTAMP:20260422T071950
CREATED:20250406T092227Z
LAST-MODIFIED:20250531T073203Z
UID:5963-1750010400-1750014900@ontmoetingskerkonline.nl
SUMMARY:Kerkdienst Ds L. Krooneman
DESCRIPTION:
URL:https://ontmoetingskerkonline.nl/kerkdienst/kerkdienst-voorganger-nog-niet-bekend-2/
CATEGORIES:CGK
END:VEVENT
BEGIN:VEVENT
DTSTART;TZID=Europe/Helsinki:20250622T111500
DTEND;TZID=Europe/Helsinki:20250622T123000
DTSTAMP:20260422T071950
CREATED:20250406T092355Z
LAST-MODIFIED:20250406T092355Z
UID:5966-1750590900-1750595400@ontmoetingskerkonline.nl
SUMMARY:Kerkdienst Ds J Hardeman | Viering Heilig Avondmaal
DESCRIPTION:
URL:https://ontmoetingskerkonline.nl/kerkdienst/kerkdienst-ds-j-hardeman-viering-heilig-avondmaal/
CATEGORIES:CGK
END:VEVENT
BEGIN:VEVENT
DTSTART;TZID=Europe/Helsinki:20250622T180000
DTEND;TZID=Europe/Helsinki:20250622T191500
DTSTAMP:20260422T071950
CREATED:20250406T092424Z
LAST-MODIFIED:20250406T092424Z
UID:5968-1750615200-1750619700@ontmoetingskerkonline.nl
SUMMARY:Kerkdienst Ds J Hardeman | Voortzetting Heilig Avondmaal
DESCRIPTION:
URL:https://ontmoetingskerkonline.nl/kerkdienst/kerkdienst-ds-j-hardeman-voortzetting-heilig-avondmaal/
CATEGORIES:CGK
END:VEVENT
BEGIN:VEVENT
DTSTART;TZID=Europe/Helsinki:20250629T111500
DTEND;TZID=Europe/Helsinki:20250629T123000
DTSTAMP:20260422T071950
CREATED:20250406T092507Z
LAST-MODIFIED:20250406T092507Z
UID:5970-1751195700-1751200200@ontmoetingskerkonline.nl
SUMMARY:Kerkdienst Ds JW Sparreboom
DESCRIPTION:
URL:https://ontmoetingskerkonline.nl/kerkdienst/kerkdienst-ds-jw-sparreboom/
CATEGORIES:CGK
END:VEVENT
BEGIN:VEVENT
DTSTART;TZID=Europe/Helsinki:20250629T180000
DTEND;TZID=Europe/Helsinki:20250629T191500
DTSTAMP:20260422T071950
CREATED:20250406T092537Z
LAST-MODIFIED:20250406T092537Z
UID:5972-1751220000-1751224500@ontmoetingskerkonline.nl
SUMMARY:Kerkdienst Ds B van Zuijlekom
DESCRIPTION:
URL:https://ontmoetingskerkonline.nl/kerkdienst/kerkdienst-ds-b-van-zuijlekom/
CATEGORIES:CGK
END:VEVENT
BEGIN:VEVENT
DTSTART;TZID=Europe/Helsinki:20250727T100000
DTEND;TZID=Europe/Helsinki:20250727T113000
DTSTAMP:20260422T071950
CREATED:20250613T091539Z
LAST-MODIFIED:20250613T094510Z
UID:6007-1753610400-1753615800@ontmoetingskerkonline.nl
SUMMARY:Gezamenlijke Kerkdienst CGK en HWS\, koffiedrinken na de dienst
DESCRIPTION:Betreft een gezamenlijke dienst van de beide Ontmoetingskerk Gemeenten. \nDeze dienst valt onder de verantwoording van de CGK. \nAanvang van de dienst is om 10.00 uur.
URL:https://ontmoetingskerkonline.nl/kerkdienst/gezamelijke-kerkdienst-cgk-en-hws/
CATEGORIES:CGK
END:VEVENT
END:VCALENDAR