BEGIN:VCALENDAR
VERSION:2.0
PRODID:-//Ontmoetingskerk | Capelle aan den IJssel - ECPv6.10.1.1//NONSGML v1.0//EN
CALSCALE:GREGORIAN
METHOD:PUBLISH
X-WR-CALNAME:Ontmoetingskerk | Capelle aan den IJssel
X-ORIGINAL-URL:https://ontmoetingskerkonline.nl
X-WR-CALDESC:Evenementen voor Ontmoetingskerk | Capelle aan den IJssel
REFRESH-INTERVAL;VALUE=DURATION:PT1H
X-Robots-Tag:noindex
X-PUBLISHED-TTL:PT1H
BEGIN:VTIMEZONE
TZID:Europe/Helsinki
BEGIN:DAYLIGHT
TZOFFSETFROM:+0200
TZOFFSETTO:+0300
TZNAME:EEST
DTSTART:20240331T010000
END:DAYLIGHT
BEGIN:STANDARD
TZOFFSETFROM:+0300
TZOFFSETTO:+0200
TZNAME:EET
DTSTART:20241027T010000
END:STANDARD
END:VTIMEZONE
BEGIN:VEVENT
DTSTART;TZID=Europe/Helsinki:20241201T091500
DTEND;TZID=Europe/Helsinki:20241201T103000
DTSTAMP:20260421T130252
CREATED:20241029T124409Z
LAST-MODIFIED:20241029T130216Z
UID:5540-1733044500-1733049000@ontmoetingskerkonline.nl
SUMMARY:Kerkdienst Ds. S.C. Honing\, Viering Heilig Avondmaal\, 1e Adventzondag
DESCRIPTION:
URL:https://ontmoetingskerkonline.nl/kerkdienst/kerkdienst-voorganger-ds-s-c-honing-2/
CATEGORIES:HWS
END:VEVENT
BEGIN:VEVENT
DTSTART;TZID=Europe/Helsinki:20241201T160000
DTEND;TZID=Europe/Helsinki:20241201T173000
DTSTAMP:20260421T130252
CREATED:20241029T125325Z
LAST-MODIFIED:20241029T125325Z
UID:5544-1733068800-1733074200@ontmoetingskerkonline.nl
SUMMARY:Kerkdienst Ds. C.S. Honing\,  Voortzetting Heilig Avondmaal
DESCRIPTION:
URL:https://ontmoetingskerkonline.nl/kerkdienst/kerkdienst-ds-c-s-honing-voortzetting-heilig-avondmaal/
CATEGORIES:HWS
END:VEVENT
BEGIN:VEVENT
DTSTART;TZID=Europe/Helsinki:20241215T091500
DTEND;TZID=Europe/Helsinki:20241215T103000
DTSTAMP:20260421T130252
CREATED:20241029T125808Z
LAST-MODIFIED:20241029T125808Z
UID:5548-1734254100-1734258600@ontmoetingskerkonline.nl
SUMMARY:Kerkdienst Ds. C.S. Honing\, 3e Adventzondag
DESCRIPTION:
URL:https://ontmoetingskerkonline.nl/kerkdienst/kerkdienst-ds-c-s-honing-3e-adventzondag/
CATEGORIES:HWS
END:VEVENT
BEGIN:VEVENT
DTSTART;TZID=Europe/Helsinki:20241222T091500
DTEND;TZID=Europe/Helsinki:20241222T103000
DTSTAMP:20260421T130252
CREATED:20241029T125955Z
LAST-MODIFIED:20241029T132421Z
UID:5550-1734858900-1734863400@ontmoetingskerkonline.nl
SUMMARY:Kerkdienst Ds. T. Jacobs uit Leiden\, 4e Adventzondag
DESCRIPTION:
URL:https://ontmoetingskerkonline.nl/kerkdienst/kerkdienst-ds-c-s-honing-4e-adventzondag/
CATEGORIES:HWS
END:VEVENT
BEGIN:VEVENT
DTSTART;TZID=Europe/Helsinki:20241225T091500
DTEND;TZID=Europe/Helsinki:20241225T103000
DTSTAMP:20260421T130252
CREATED:20241029T133634Z
LAST-MODIFIED:20241029T133634Z
UID:5575-1735118100-1735122600@ontmoetingskerkonline.nl
SUMMARY:Kerkdienst Ds. C.S. Honing\, 1e Kerstdag
DESCRIPTION:
URL:https://ontmoetingskerkonline.nl/kerkdienst/kerkdienst-ds-c-s-honing-1e-kerstdag/
CATEGORIES:HWS
END:VEVENT
BEGIN:VEVENT
DTSTART;TZID=Europe/Helsinki:20241229T091500
DTEND;TZID=Europe/Helsinki:20241229T103000
DTSTAMP:20260421T130252
CREATED:20241029T133803Z
LAST-MODIFIED:20241029T133803Z
UID:5577-1735463700-1735468200@ontmoetingskerkonline.nl
SUMMARY:Kerkdienst Dr. R. de Reuver uit Houten
DESCRIPTION:
URL:https://ontmoetingskerkonline.nl/kerkdienst/kerkdienst-dr-r-de-reuver-uit-houten/
CATEGORIES:HWS
END:VEVENT
END:VCALENDAR